BEGIN:VCALENDAR
VERSION:2.0
PRODID:-//Marshside Primary School - ECPv6.15.20//NONSGML v1.0//EN
CALSCALE:GREGORIAN
METHOD:PUBLISH
X-WR-CALNAME:Marshside Primary School
X-ORIGINAL-URL:https://marshsideprimary.org.uk
X-WR-CALDESC:Events for Marshside Primary School
REFRESH-INTERVAL;VALUE=DURATION:PT1H
X-Robots-Tag:noindex
X-PUBLISHED-TTL:PT1H
BEGIN:VTIMEZONE
TZID:Europe/London
BEGIN:DAYLIGHT
TZOFFSETFROM:+0000
TZOFFSETTO:+0100
TZNAME:BST
DTSTART:20180325T010000
END:DAYLIGHT
BEGIN:STANDARD
TZOFFSETFROM:+0100
TZOFFSETTO:+0000
TZNAME:GMT
DTSTART:20181028T010000
END:STANDARD
BEGIN:DAYLIGHT
TZOFFSETFROM:+0000
TZOFFSETTO:+0100
TZNAME:BST
DTSTART:20190331T010000
END:DAYLIGHT
BEGIN:STANDARD
TZOFFSETFROM:+0100
TZOFFSETTO:+0000
TZNAME:GMT
DTSTART:20191027T010000
END:STANDARD
BEGIN:DAYLIGHT
TZOFFSETFROM:+0000
TZOFFSETTO:+0100
TZNAME:BST
DTSTART:20200329T010000
END:DAYLIGHT
BEGIN:STANDARD
TZOFFSETFROM:+0100
TZOFFSETTO:+0000
TZNAME:GMT
DTSTART:20201025T010000
END:STANDARD
END:VTIMEZONE
BEGIN:VEVENT
DTSTART;TZID=Europe/London:20190619T080000
DTEND;TZID=Europe/London:20190619T170000
DTSTAMP:20260419T124659
CREATED:20190424T114543Z
LAST-MODIFIED:20190424T114543Z
UID:1688-1560931200-1560963600@marshsideprimary.org.uk
SUMMARY:Y6 Personal Awareness
DESCRIPTION:Miss Gordon has arranged for a Judo personal Awareness session for the Y6 children.
URL:https://marshsideprimary.org.uk/event/y6-personal-awareness/
ATTACH;FMTTYPE=image/jpeg:https://marshsideprimary.org.uk/wp-content/uploads/2020/11/Marshide-Latest-News.jpg
END:VEVENT
BEGIN:VEVENT
DTSTART;VALUE=DATE:20190613
DTEND;VALUE=DATE:20190614
DTSTAMP:20260419T124659
CREATED:20190424T114445Z
LAST-MODIFIED:20190424T114445Z
UID:1686-1560384000-1560470399@marshsideprimary.org.uk
SUMMARY:Animal Roadshow
DESCRIPTION:Miss Hornby has organised the Animal Roadshow to visit school. More details to follow.
URL:https://marshsideprimary.org.uk/event/animal-roadshow/
ATTACH;FMTTYPE=image/jpeg:https://marshsideprimary.org.uk/wp-content/uploads/2020/11/Marshide-Latest-News.jpg
END:VEVENT
BEGIN:VEVENT
DTSTART;TZID=Europe/London:20190612T080000
DTEND;TZID=Europe/London:20190612T120000
DTSTAMP:20260419T124659
CREATED:20190424T114354Z
LAST-MODIFIED:20190424T114354Z
UID:1684-1560326400-1560340800@marshsideprimary.org.uk
SUMMARY:Whole school class photograph
DESCRIPTION:Tempest Photography will be taking a whole school photograph in the morning. They will start setting up the platform from 8:00am on the school playground
URL:https://marshsideprimary.org.uk/event/whole-school-class-photograph/
ATTACH;FMTTYPE=image/jpeg:https://marshsideprimary.org.uk/wp-content/uploads/2020/11/Marshide-Latest-News.jpg
END:VEVENT
BEGIN:VEVENT
DTSTART;TZID=Europe/London:20190605T130000
DTEND;TZID=Europe/London:20190605T160000
DTSTAMP:20260419T124659
CREATED:20190424T114118Z
LAST-MODIFIED:20190424T114118Z
UID:1682-1559739600-1559750400@marshsideprimary.org.uk
SUMMARY:Children's university graduation Y2 and Y6
DESCRIPTION:Mrs Hilbert will be taking children from Y2 and Y6 who have secured enough Children’s University credits. Further details to follow.
URL:https://marshsideprimary.org.uk/event/childrens-university-graduation-y2-and-y6/
ATTACH;FMTTYPE=image/jpeg:https://marshsideprimary.org.uk/wp-content/uploads/2020/11/Marshide-Latest-News.jpg
END:VEVENT
BEGIN:VEVENT
DTSTART;VALUE=DATE:20190604
DTEND;VALUE=DATE:20190605
DTSTAMP:20260419T124659
CREATED:20190127T122559Z
LAST-MODIFIED:20190127T122559Z
UID:1500-1559606400-1559692799@marshsideprimary.org.uk
SUMMARY:School re-opens
DESCRIPTION:
URL:https://marshsideprimary.org.uk/event/school-re-opens-2/
ATTACH;FMTTYPE=image/jpeg:https://marshsideprimary.org.uk/wp-content/uploads/2020/11/Marshide-Latest-News.jpg
END:VEVENT
BEGIN:VEVENT
DTSTART;VALUE=DATE:20190603
DTEND;VALUE=DATE:20190604
DTSTAMP:20260419T124659
CREATED:20190424T113925Z
LAST-MODIFIED:20190424T113925Z
UID:1680-1559520000-1559606399@marshsideprimary.org.uk
SUMMARY:INSET - school closed to children
DESCRIPTION:
URL:https://marshsideprimary.org.uk/event/inset-school-closed-to-children-2/
ATTACH;FMTTYPE=image/jpeg:https://marshsideprimary.org.uk/wp-content/uploads/2020/11/Marshide-Latest-News.jpg
END:VEVENT
BEGIN:VEVENT
DTSTART;TZID=Europe/London:20190524T080000
DTEND;TZID=Europe/London:20190603T170000
DTSTAMP:20260419T124659
CREATED:20190127T122041Z
LAST-MODIFIED:20190127T122041Z
UID:1492-1558684800-1559581200@marshsideprimary.org.uk
SUMMARY:May half-term
DESCRIPTION:School re-opens on Tuesday 4th June 2019
URL:https://marshsideprimary.org.uk/event/may-half-term/
ATTACH;FMTTYPE=image/jpeg:https://marshsideprimary.org.uk/wp-content/uploads/2020/11/Marshide-Latest-News.jpg
END:VEVENT
BEGIN:VEVENT
DTSTART;VALUE=DATE:20190524
DTEND;VALUE=DATE:20190525
DTSTAMP:20260419T124659
CREATED:20190424T113905Z
LAST-MODIFIED:20190424T113905Z
UID:1678-1558656000-1558742399@marshsideprimary.org.uk
SUMMARY:INSET - school closed to children
DESCRIPTION:
URL:https://marshsideprimary.org.uk/event/inset-school-closed-to-children/
ATTACH;FMTTYPE=image/jpeg:https://marshsideprimary.org.uk/wp-content/uploads/2020/11/Marshide-Latest-News.jpg
END:VEVENT
BEGIN:VEVENT
DTSTART;TZID=Europe/London:20190523T153000
DTEND;TZID=Europe/London:20190603T170000
DTSTAMP:20260419T124659
CREATED:20190424T113727Z
LAST-MODIFIED:20190424T113727Z
UID:1674-1558625400-1559581200@marshsideprimary.org.uk
SUMMARY:School closes for May half-term
DESCRIPTION:The school will close at normal time for the May half-term. \nSchool re-opens on Tuesday 3rd June
URL:https://marshsideprimary.org.uk/event/school-closes-for-may-half-term/
ATTACH;FMTTYPE=image/jpeg:https://marshsideprimary.org.uk/wp-content/uploads/2020/11/Marshide-Latest-News.jpg
END:VEVENT
BEGIN:VEVENT
DTSTART;TZID=Europe/London:20190523T040000
DTEND;TZID=Europe/London:20190523T170000
DTSTAMP:20260419T124659
CREATED:20190424T113835Z
LAST-MODIFIED:20190424T113835Z
UID:1676-1558584000-1558630800@marshsideprimary.org.uk
SUMMARY:Stanley High School Cross Country Event
DESCRIPTION:Mrs Hilbert will be taking a team to participate in this event. Letters will be sent out nearer the time
URL:https://marshsideprimary.org.uk/event/stanley-high-school-cross-country-event/
ATTACH;FMTTYPE=image/jpeg:https://marshsideprimary.org.uk/wp-content/uploads/2020/11/Marshide-Latest-News.jpg
END:VEVENT
BEGIN:VEVENT
DTSTART;VALUE=DATE:20190523
DTEND;VALUE=DATE:20190524
DTSTAMP:20260419T124659
CREATED:20190127T121939Z
LAST-MODIFIED:20190127T122006Z
UID:1489-1558569600-1558655999@marshsideprimary.org.uk
SUMMARY:School closes for half-term
DESCRIPTION:School closes for the half-term and re-opens on Tuesday 4th June 2019
URL:https://marshsideprimary.org.uk/event/school-closes-for-half-term-2/
ATTACH;FMTTYPE=image/jpeg:https://marshsideprimary.org.uk/wp-content/uploads/2020/11/Marshide-Latest-News.jpg
END:VEVENT
BEGIN:VEVENT
DTSTART;TZID=Europe/London:20190522T030000
DTEND;TZID=Europe/London:20190522T160000
DTSTAMP:20260419T124659
CREATED:20190424T112458Z
LAST-MODIFIED:20190424T115134Z
UID:1655-1558494000-1558540800@marshsideprimary.org.uk
SUMMARY:School nurse walk around
DESCRIPTION:Diane Chapman our school nurse will be in school.
URL:https://marshsideprimary.org.uk/event/school-nurse-walk-around/
ATTACH;FMTTYPE=image/jpeg:https://marshsideprimary.org.uk/wp-content/uploads/2020/11/Marshide-Latest-News.jpg
END:VEVENT
BEGIN:VEVENT
DTSTART;VALUE=DATE:20190517
DTEND;VALUE=DATE:20190518
DTSTAMP:20260419T124659
CREATED:20190424T113556Z
LAST-MODIFIED:20190424T113556Z
UID:1672-1558051200-1558137599@marshsideprimary.org.uk
SUMMARY:Merseyside Mile Event
DESCRIPTION:This year we will be participating in this event. Mrs Hilbert will send out additional information nearer the time.
URL:https://marshsideprimary.org.uk/event/merseyside-mile-event/
ATTACH;FMTTYPE=image/jpeg:https://marshsideprimary.org.uk/wp-content/uploads/2020/11/Marshide-Latest-News.jpg
END:VEVENT
BEGIN:VEVENT
DTSTART;TZID=Europe/London:20190513T080000
DTEND;TZID=Europe/London:20190517T170000
DTSTAMP:20260419T124659
CREATED:20190127T122214Z
LAST-MODIFIED:20190127T122214Z
UID:1496-1557734400-1558112400@marshsideprimary.org.uk
SUMMARY:KS2 Sats week
DESCRIPTION:Y6 children will undertake the KS2 statutory tests this week. \nThere will be a free breakfast club for the Y6 children. Time to be confirmed.
URL:https://marshsideprimary.org.uk/event/ks2-sats-week/
ATTACH;FMTTYPE=image/jpeg:https://marshsideprimary.org.uk/wp-content/uploads/2020/11/Marshide-Latest-News.jpg
END:VEVENT
BEGIN:VEVENT
DTSTART;VALUE=DATE:20190513
DTEND;VALUE=DATE:20190517
DTSTAMP:20260419T124659
CREATED:20190424T113503Z
LAST-MODIFIED:20190424T113503Z
UID:1669-1557705600-1558051199@marshsideprimary.org.uk
SUMMARY:Y6 assessment week
DESCRIPTION:
URL:https://marshsideprimary.org.uk/event/y6-assessment-week/
ATTACH;FMTTYPE=image/jpeg:https://marshsideprimary.org.uk/wp-content/uploads/2020/11/Marshide-Latest-News.jpg
END:VEVENT
BEGIN:VEVENT
DTSTART;TZID=Europe/London:20190512T110000
DTEND;TZID=Europe/London:20190512T150000
DTSTAMP:20260419T124659
CREATED:20190424T113252Z
LAST-MODIFIED:20190424T113252Z
UID:1667-1557658800-1557673200@marshsideprimary.org.uk
SUMMARY:School Garden Makeover 11am - 3pm
DESCRIPTION:Mrs Court\, Mrs Hilbert and the PFA have organised a School Garden makeover event. The PFA have sent out information about this event.
URL:https://marshsideprimary.org.uk/event/school-garden-makeover-11am-3pm/
ATTACH;FMTTYPE=image/jpeg:https://marshsideprimary.org.uk/wp-content/uploads/2020/11/Marshide-Latest-News.jpg
END:VEVENT
BEGIN:VEVENT
DTSTART;TZID=Europe/London:20190508T133000
DTEND;TZID=Europe/London:20190508T150000
DTSTAMP:20260419T124659
CREATED:20190424T113121Z
LAST-MODIFIED:20190424T113121Z
UID:1665-1557322200-1557327600@marshsideprimary.org.uk
SUMMARY:Attendance and Welfare Officer in School
DESCRIPTION:
URL:https://marshsideprimary.org.uk/event/attendance-and-welfare-officer-in-school-2/
ATTACH;FMTTYPE=image/jpeg:https://marshsideprimary.org.uk/wp-content/uploads/2020/11/Marshide-Latest-News.jpg
END:VEVENT
BEGIN:VEVENT
DTSTART;TZID=Europe/London:20190508T080000
DTEND;TZID=Europe/London:20190512T170000
DTSTAMP:20260419T124659
CREATED:20190501T104720Z
LAST-MODIFIED:20190501T104941Z
UID:1712-1557302400-1557680400@marshsideprimary.org.uk
SUMMARY:British Masters 8th to 12th May
DESCRIPTION:Sefton Council_ Schools One Pager
URL:https://marshsideprimary.org.uk/event/british-masters-8th-to-12th-may/
ATTACH;FMTTYPE=image/jpeg:https://marshsideprimary.org.uk/wp-content/uploads/2020/11/Marshide-Latest-News.jpg
END:VEVENT
BEGIN:VEVENT
DTSTART;TZID=Europe/London:20190507T080000
DTEND;TZID=Europe/London:20190507T170000
DTSTAMP:20260419T124659
CREATED:20190424T113044Z
LAST-MODIFIED:20190424T113044Z
UID:1663-1557216000-1557248400@marshsideprimary.org.uk
SUMMARY:Everton FC tournament
DESCRIPTION:Mrs Hilbert will be taking a number of children to take part in Everton FC tournament at Goodison Park. The families of the children selected will be informed by letter
URL:https://marshsideprimary.org.uk/event/everton-fc-tournament/
ATTACH;FMTTYPE=image/jpeg:https://marshsideprimary.org.uk/wp-content/uploads/2020/11/Marshide-Latest-News.jpg
END:VEVENT
BEGIN:VEVENT
DTSTART;VALUE=DATE:20190506
DTEND;VALUE=DATE:20190507
DTSTAMP:20260419T124659
CREATED:20190424T112927Z
LAST-MODIFIED:20190424T112927Z
UID:1661-1557100800-1557187199@marshsideprimary.org.uk
SUMMARY:Bank Holiday - School closed
DESCRIPTION:
URL:https://marshsideprimary.org.uk/event/bank-holiday-school-closed/
ATTACH;FMTTYPE=image/jpeg:https://marshsideprimary.org.uk/wp-content/uploads/2020/11/Marshide-Latest-News.jpg
END:VEVENT
BEGIN:VEVENT
DTSTART;VALUE=DATE:20190506
DTEND;VALUE=DATE:20190507
DTSTAMP:20260419T124659
CREATED:20190127T122105Z
LAST-MODIFIED:20190127T122105Z
UID:1494-1557100800-1557187199@marshsideprimary.org.uk
SUMMARY:May bank holiday
DESCRIPTION:
URL:https://marshsideprimary.org.uk/event/may-bank-holiday/
ATTACH;FMTTYPE=image/jpeg:https://marshsideprimary.org.uk/wp-content/uploads/2020/11/Marshide-Latest-News.jpg
END:VEVENT
BEGIN:VEVENT
DTSTART;TZID=Europe/London:20190504T080000
DTEND;TZID=Europe/London:20190512T170000
DTSTAMP:20260419T124659
CREATED:20190501T104628Z
LAST-MODIFIED:20190501T104844Z
UID:1710-1556956800-1557680400@marshsideprimary.org.uk
SUMMARY:Festival of Golf 4th to 12th May
DESCRIPTION:Sefton Council is hosting a fabulous ‘Festival of Golf’ to coincide with the British Masters tournament at Hillside Golf Club – and pupils at all schools are invited to take part! \nAs the borough prepares to welcome thousands of golf fans for the British Masters tournament\, a week of golfing activities is taking place at Southport Golf Links and Bootle Golf Course from May 4-12. \nThe festival aims to appeal to both beginners and existing golfers\, of all ages and ability\, and is supported by the European Tour and former Southport Golf Links junior member\, Tommy Fleetwood. \nFestival_of_Golf_Flyer_2 \n 
URL:https://marshsideprimary.org.uk/event/festival-of-golf-4th-to-12th-may/
ATTACH;FMTTYPE=image/jpeg:https://marshsideprimary.org.uk/wp-content/uploads/2020/11/Marshide-Latest-News.jpg
END:VEVENT
BEGIN:VEVENT
DTSTART;TZID=Europe/London:20190501T100000
DTEND;TZID=Europe/London:20190501T230000
DTSTAMP:20260419T124659
CREATED:20190424T112903Z
LAST-MODIFIED:20190424T112903Z
UID:1659-1556704800-1556751600@marshsideprimary.org.uk
SUMMARY:Y2 cricket enrichment
DESCRIPTION:Mrs Yarwood and Mrs Hilbert will be taking the Y2 children to the Fleetwood Hesketh Cricket event.
URL:https://marshsideprimary.org.uk/event/y2-cricket-enrichment/
ATTACH;FMTTYPE=image/jpeg:https://marshsideprimary.org.uk/wp-content/uploads/2020/11/Marshide-Latest-News.jpg
END:VEVENT
BEGIN:VEVENT
DTSTART;TZID=Europe/London:20190429T160000
DTEND;TZID=Europe/London:20190429T170000
DTSTAMP:20260419T124659
CREATED:20190424T112644Z
LAST-MODIFIED:20190424T112644Z
UID:1657-1556553600-1556557200@marshsideprimary.org.uk
SUMMARY:Football team match at Stanley High School 4pm - 5pm
DESCRIPTION:Mrs Hilbert and Mr Roberts will accompany the football team to the tournament at Stanley High school
URL:https://marshsideprimary.org.uk/event/football-team-match-at-stanley-high-school-4pm-5pm/
ATTACH;FMTTYPE=image/jpeg:https://marshsideprimary.org.uk/wp-content/uploads/2020/11/Marshide-Latest-News.jpg
END:VEVENT
BEGIN:VEVENT
DTSTART;TZID=Europe/London:20190429T152000
DTEND;TZID=Europe/London:20190429T170000
DTSTAMP:20260419T124659
CREATED:20190424T115321Z
LAST-MODIFIED:20190424T115321Z
UID:1696-1556551200-1556557200@marshsideprimary.org.uk
SUMMARY:School nurse in school. 3:20pm
DESCRIPTION:Diane Chapman our school nurse will be in school.
URL:https://marshsideprimary.org.uk/event/school-nurse-in-school-320pm/
ATTACH;FMTTYPE=image/jpeg:https://marshsideprimary.org.uk/wp-content/uploads/2020/11/Marshide-Latest-News.jpg
END:VEVENT
BEGIN:VEVENT
DTSTART;TZID=Europe/London:20190424T080000
DTEND;TZID=Europe/London:20190424T170000
DTSTAMP:20260419T124659
CREATED:20190424T112255Z
LAST-MODIFIED:20190424T112255Z
UID:1652-1556092800-1556125200@marshsideprimary.org.uk
SUMMARY:Quidditch enrichment day
DESCRIPTION:The world of Harry Potter comes to Marshside on Thursday 24th April. The children will be placed into teams by the Sorting Hat. During the day the the children will compete in a range of activities.
URL:https://marshsideprimary.org.uk/event/quidditch-enrichment-day/
ATTACH;FMTTYPE=image/jpeg:https://marshsideprimary.org.uk/wp-content/uploads/2020/11/Marshide-Latest-News.jpg
END:VEVENT
BEGIN:VEVENT
DTSTART;TZID=Europe/London:20190424T080000
DTEND;TZID=Europe/London:20190424T170000
DTSTAMP:20260419T124659
CREATED:20190424T112011Z
LAST-MODIFIED:20190424T112011Z
UID:1650-1556092800-1556125200@marshsideprimary.org.uk
SUMMARY:Y5 trip to Tatton Park - leaving 8:15am
DESCRIPTION:Y5 will be visiting Tatton Park on Thursday 24th April 2019. \nPlease note the coach leaves school at 8:15am
URL:https://marshsideprimary.org.uk/event/y5-trip-to-tatton-park-leaving-815am/
ATTACH;FMTTYPE=image/jpeg:https://marshsideprimary.org.uk/wp-content/uploads/2020/11/Marshide-Latest-News.jpg
END:VEVENT
BEGIN:VEVENT
DTSTART;VALUE=DATE:20190423
DTEND;VALUE=DATE:20190424
DTSTAMP:20260419T124659
CREATED:20190127T122655Z
LAST-MODIFIED:20190127T122655Z
UID:1502-1555977600-1556063999@marshsideprimary.org.uk
SUMMARY:School re-opens
DESCRIPTION:
URL:https://marshsideprimary.org.uk/event/school-re-opens-3/
ATTACH;FMTTYPE=image/jpeg:https://marshsideprimary.org.uk/wp-content/uploads/2020/11/Marshide-Latest-News.jpg
END:VEVENT
BEGIN:VEVENT
DTSTART;TZID=Europe/London:20190406T080000
DTEND;TZID=Europe/London:20190422T170000
DTSTAMP:20260419T124659
CREATED:20190127T121841Z
LAST-MODIFIED:20190127T121841Z
UID:1485-1554537600-1555952400@marshsideprimary.org.uk
SUMMARY:Easter break
DESCRIPTION:School is closed for the Easter Holidays and reopens on Tuesday 23rd April 2019
URL:https://marshsideprimary.org.uk/event/easter-break/
ATTACH;FMTTYPE=image/jpeg:https://marshsideprimary.org.uk/wp-content/uploads/2020/11/Marshide-Latest-News.jpg
END:VEVENT
BEGIN:VEVENT
DTSTART;VALUE=DATE:20190405
DTEND;VALUE=DATE:20190406
DTSTAMP:20260419T124659
CREATED:20190127T121708Z
LAST-MODIFIED:20190127T121708Z
UID:1481-1554422400-1554508799@marshsideprimary.org.uk
SUMMARY:School closes for Easter break at 2:15pm
DESCRIPTION:School closes on Friday 5th April 2019 for Easter Break. After school club finishes at 4:15pm.
URL:https://marshsideprimary.org.uk/event/school-closes-for-easter-break-at-215pm/
ATTACH;FMTTYPE=image/jpeg:https://marshsideprimary.org.uk/wp-content/uploads/2020/11/Marshide-Latest-News.jpg
END:VEVENT
END:VCALENDAR